BEGIN:VCALENDAR
VERSION:2.0
CALSCALE:GREGORIAN
PRODID:-//MyApp//Calendar 1.0//EN
BEGIN:VEVENT
METHOD:PUBLISH
UID:32108@regionalniportaly.cz
DTSTAMP:20260422T015009Z
DTSTART;VALUE=DATE:20230426
DTEND;VALUE=DATE:20230427
SUMMARY:Pokáčovo Jaro 2023
DESCRIPTION:Pokáčovo Jaro 2023
LOCATION:Říčany
END:VEVENT
END:VCALENDAR