BEGIN:VCALENDAR
VERSION:2.0
CALSCALE:GREGORIAN
PRODID:-//MyApp//Calendar 1.0//EN
BEGIN:VEVENT
METHOD:PUBLISH
UID:32200@regionalniportaly.cz
DTSTAMP:20260422T014959Z
DTSTART;VALUE=DATE:20230427
DTEND;VALUE=DATE:20230428
SUMMARY:Dan Bárta & Illustratosphere
DESCRIPTION:S radostí Vás zveme na kladenský koncert Dana Bárty &amp\; Illustratosphere v rámci 25. narozenin music clubu Dundee Jam!Dan Bárta\, jedenáctinásobný držitel Ceny Anděl v kategoriích Zpěvák roku a Zpěvák čtvrtstoletí\, se zapsal v devadesátých letech do širokého povědomí s kapelou Alice a účinkováním v muzikálu Jesus Christ Superstar. Stal se také neodmyslitelnou součástí kapely J.A.R. V roce 2000 překvapil fanoušky s vlastní skupinou Illustratosphere\, se kterou vydal dosud pět řadových alb. Koncertní turné v roce 2023 bude věnováno především návratu ke skladbám z prvních dvou alb (eponymnímu debutu a Entropicture)\, které znovu vychází v reedici!Více:www.dundeejam.czwww.danbarta.cz
LOCATION:Kladno
END:VEVENT
END:VCALENDAR