BEGIN:VCALENDAR
VERSION:2.0
CALSCALE:GREGORIAN
PRODID:-//MyApp//Calendar 1.0//EN
BEGIN:VEVENT
METHOD:PUBLISH
UID:32462@regionalniportaly.cz
DTSTAMP:20260422T031905Z
DTSTART;VALUE=DATE:20230507
DTEND;VALUE=DATE:20230508
SUMMARY:Polegym show
DESCRIPTION:Unikátní akrobatická show aerial hoop\, aerial hammock\, aerial straps a pole dance. Představí se lektorky a studentky studia Polegym a jejich hosté.
LOCATION:Kladno
END:VEVENT
END:VCALENDAR