BEGIN:VCALENDAR
VERSION:2.0
CALSCALE:GREGORIAN
PRODID:-//MyApp//Calendar 1.0//EN
BEGIN:VEVENT
METHOD:PUBLISH
UID:32654@regionalniportaly.cz
DTSTAMP:20260422T031300Z
DTSTART;VALUE=DATE:20230815
DTEND;VALUE=DATE:20230816
SUMMARY:Cello Republic - FREEDOM TOUR 2023 - Dvořákův festival
DESCRIPTION:Poznejte Dvořákův festival na lodi Florentina a užijte si nezapomenutelný večer s prvotřídními umělci přímo na palubě!&nbsp\;Účinkující:&nbsp\;PETR ŠPAČEK / MATĚJ ŠTĚPÁNEK / JAN ZEMEN / IVAN VOKÁČ – violoncella&nbsp\;Pořadatel:&nbsp\;Dvořákův festival&nbsp\;Program:&nbsp\;1. Andrew Lloyd Webber – Heaven on their minds2. Aram Chačaturjan – Šavlový tanec3. Claude Debussy – Claire de lune4. Vittorio Monti – Čardáš5. Andrew Lloyd Webber – Could we start again6. Andrew Lloyd Webber – Memory7. Frank Sinatra – I have got world on a string8. Ozzy Osbourne – Dreamer9. Jaroslav Ježek – Nebe na zemi10. Freddie Mercury – Dont stop me now11. Stevie Wonder – I wish12. Freddie Mercury – Bohemian Rhapsody13. Andrew Lloyd Webber – All I ask14. Andrew Lloyd Webber – Phantom of the Opera Overture15. Rock around the clock16. Frank Sinatra - My way&nbsp\;Důležité informace k nalodění:Od 17\,30 možnost večeře v&nbsp\;restauraci&nbsp\;na lodi.Rezervace nutná. Tel.č.: +420&nbsp\;601&nbsp\;001&nbsp\;592
LOCATION:Brandýs nad Labem-Stará Boleslav
END:VEVENT
END:VCALENDAR