BEGIN:VCALENDAR
VERSION:2.0
CALSCALE:GREGORIAN
PRODID:-//MyApp//Calendar 1.0//EN
BEGIN:VEVENT
METHOD:PUBLISH
UID:34595@regionalniportaly.cz
DTSTAMP:20260422T072428Z
DTSTART;VALUE=DATE:20230906
DTEND;VALUE=DATE:20230907
SUMMARY:Steve Clarke Trio (USA/D)
DESCRIPTION:Steve Clarke je vynikající jazzový baskytarista z&nbsp\;Connecticutu (USA). Doposud vydal osm sólových alb a&nbsp\;58 alb s&nbsp\;dalšími umělci. Na&nbsp\;jeho albu New Beginnings hostuje též Mike Stern. Steve koncertuje více než 25&nbsp\;let pravidelně v&nbsp\;USA i&nbsp\;Evropě. Clarkovy přirozeně plynoucí kompozice obsahují mnoho zručně uchopené fusionové inspirace\, zatímco jeho plný tón a&nbsp\;důmyslné linky a&nbsp\;slapovací technika uchvacují publikum. Jde o&nbsp\;řemeslně dokonalé sety\, chytlavé groovey a&nbsp\;oslnivá sóla. Basista a&nbsp\;skladatel Steve Clarke je všestrannou hudební osobností – ve&nbsp\;své hře kombinuje moderní jazz\, blues\, soul i&nbsp\;RnB a&nbsp\;je mezi kolegy znám jako brilantní hráč. V Čechách léta koncertoval s&nbsp\;kapelou Laca Decziho - Cellula New York. Kapela hraje ve&nbsp\;složení Steve Clarke – baskytara (USA)\, Walter Fischbacher (USA) – klávesy\, Alex Bernath (D) – bicí &nbsp\;&nbsp\;Více: www.walterfischbacher.com/steveclarke. Steve už v&nbsp\;Černošicích hrál a&nbsp\;publikum bylo z&nbsp\;jeho hry doslova nadšeno\, tak se&nbsp\;přijďte přesvědčit i&nbsp\;Vy.
LOCATION:Černošice
END:VEVENT
END:VCALENDAR