BEGIN:VCALENDAR
VERSION:2.0
CALSCALE:GREGORIAN
PRODID:-//MyApp//Calendar 1.0//EN
BEGIN:VEVENT
METHOD:PUBLISH
UID:34597@regionalniportaly.cz
DTSTAMP:20260422T044717Z
DTSTART;VALUE=DATE:20230922
DTEND;VALUE=DATE:20230923
SUMMARY:Folhinha Band
DESCRIPTION:Folhinha Band je mezinárodní projekt ekvádorské zpěvačky\, klavíristky\, perkusistky a skladatelky Andrey Ruilova-Barzola. Před deseti lety se spojila s českými hudebníky\, společně cestovala po České republice a natočila dvě alba. Letos bohužel nedostala na poslední chvíli vízum\, tak bude skupina vystupovat bez zpěvačky. Můžete se těšit na energetickou\, rytmickou a živou hudbu v podání Folhina Bandu. Kapelu tvoří špičkový muzikanti známý i z jiných známějších projektů. Jakub Doležal: saxofony\, Filip Spálený: baskytara\, Jiří Šimek: kytary a Filip Jeníček: bicí.
LOCATION:Černošice
END:VEVENT
END:VCALENDAR