BEGIN:VCALENDAR
VERSION:2.0
CALSCALE:GREGORIAN
PRODID:-//MyApp//Calendar 1.0//EN
BEGIN:VEVENT
METHOD:PUBLISH
UID:34598@regionalniportaly.cz
DTSTAMP:20260422T090939Z
DTSTART;VALUE=DATE:20231004
DTEND;VALUE=DATE:20231005
SUMMARY:Albert Frost Band (JAR\, CZ)
DESCRIPTION:Albert Frost je jihoafrický bluesový zpěvák\, rockový kytarista a producent\, který vystupuje od roku 1994. V roce 2017 získal cenu SAMA (nejvyšší hudební ocenění v&nbsp\;JAR) za nejlepší rockové album roku Sacred Sound. Se svoji kapelou The Blues Broers hrál od roku 1994 od svých 17 let. V Jižní Africe jeho kapela předskakovala opakovaně před Rolling Stones. V Jihoafrické republice je považován za legendu\, v celé zemi se těší neuvěřitelné popularitě. Jeho zjevný požitek z hudby\, kterou hraje\, z jeho nástrojů\, stejně jako jeho okouzlující vztah s publikem\, udržuje jeho obdivovatele uchvácené. Na turné po ČR bude hrát v&nbsp\;triu s&nbsp\;českou rytmikou Jakubem Hlobilem\, který hraje občas i na sedmi strunnou basu a bubeníkem Antonínem Jínou. Město Černošice Vás srdečně zve ve středu 4.10. od 20.00 hod do Club Kina.
LOCATION:Černošice
END:VEVENT
END:VCALENDAR