BEGIN:VCALENDAR
VERSION:2.0
CALSCALE:GREGORIAN
PRODID:-//MyApp//Calendar 1.0//EN
BEGIN:VEVENT
METHOD:PUBLISH
UID:34783@regionalniportaly.cz
DTSTAMP:20260422T073236Z
DTSTART;VALUE=DATE:20230914
DTEND;VALUE=DATE:20230915
SUMMARY:Koncert filmové hudby II
DESCRIPTION:Symfonický orchestr Dalibora Havlíčka se vrací do Neratovic s novým koncertem filmových melodií.  V novém programu bude hrát hlavní roli žánr sci-fi a fantasy. Uslyšíte například hudbu z filmů Star Wars\, Pán prstenů nebo Jurský park. Na loňský koncert pak orchestr naváže několika novými skladbami z filmů o Harry Potterovi a Pirátech z Karibiku. Zazní ale i skladby z akčních filmů o Jamesi Bondovi. Westernový žánr bude opět zastoupen hudbou Ennia Morriconeho\, tentokrát z filmu Hodný\, zlý a ošklivý. Z české tvorby pak uslyšíte část westernové parodie Limonádový Joe nebo suitu z televizního seriálu Zdivočelá země. Muzikál bude zastoupen například ústřední písní z filmu Pomáda.   Místo konání: Společenský dům Neratovice Adresa: nám. Republiky 1399\, Neratovice Začátek: 19:00 Sál otevřen od 18:30 Délka koncertu: 2 x 50 minut (s přestávkou) Vstupné: 350\,- Kč Vstupenky v prodeji na pokladně Společenského domu Neratovice nebo online    Výběr z programu:John Williams:  STAR WARS Howard Shore  PÁN PRSTENŮ John Williams:  JURSKÝ PARK Klaus Badelt\, Hans Zimmer:  PIRÁTI Z KARIBIKU John Williams:  HARRY POTTER Vangelis:  1492 - DOBYTÍ RÁJE John Farrar:  POMÁDA Monty Norman:  JAMES BOND Alan Silvestri  FORREST GUMP Ennio Morricone:  HODNÝ\, ZLÝ A OŠKLIVÝ Jan Rychlík\, Vlastimil Hála:  LIMONÁDOVÝ JOE Zdeněk Barták:  ZDIVOČELÁ ZEMĚ
LOCATION:Neratovice
END:VEVENT
END:VCALENDAR