BEGIN:VCALENDAR
VERSION:2.0
CALSCALE:GREGORIAN
PRODID:-//MyApp//Calendar 1.0//EN
BEGIN:VEVENT
METHOD:PUBLISH
UID:34790@regionalniportaly.cz
DTSTAMP:20260422T044803Z
DTSTART;VALUE=DATE:20231006
DTEND;VALUE=DATE:20231007
SUMMARY:Koncert filmové hudby
DESCRIPTION:Symfonický orchestr Dalibora Havlíčka uvede ve Slaném svůj úspěšný Koncert filmové hudby.\n    Zazní nejen skladby\, které orchestr provází od jeho vzniku v roce 2016 – například melodie z filmu Rocky\, populárního seriálu Hra o trůny\, či špionážní filmové série Mission Impossible. Uslyšíte ale i slavnou melodii Ennia Morriconeho z filmu Tenkrát na Západě a soundtracky dobrodružných filmů  Indiana Jones\, Sedm statečných\, Poslední Mohykán a Vinnetou. Nebudou chybět ani melodie z filmů Pearl Harbor nebo Piráti z Karibiku\, jejichž autorem je jeden z nejvyhledávanějších skladatelů současnosti\, Hans Zimmer. Malé diváky zase jistě potěší melodie z filmové série o Harrym Potterovi  nebo animované série Madagascar. Na své si přijdou také milovníci prvního a patrně i nejznámějšího českého filmového muzikálu z roku 1964 Starci na chmelu.\n \nMísto konání: Městské divadlo Slaný\nAdresa: Wilsonova 575\, Slaný\nZačátek: 19:30\nSál otevřen od 19:00\nDélka koncertu: 2 x 45 minut (s přestávkou)\nVstupné: 290\,- Kč\nVstupenky v prodeji na předprodejní pokladně Městského kina ve Slaném\, Masarykovo nám. 159 nebo hodinu před začátkem koncertu na pokladně Městského divadla Slaný. Vstupenky doporučujeme zakoupit online.\n \nVýběr z programu:  \nEnnio Morricone:  TENKRÁT NA ZÁPADĚ\nTrevor Jones:  POSLEDNÍ MOHYKÁN\nElmer Bernstain:  SEDM STATEČNÝCH\nHans Zimmer:  PEARL HARBOR\nMartin Bötcher:  VINNETOU\nLalo Schifrin:  MISSION IMPOSSIBLE\nKlaus Badelt:  PIRÁTI Z KARIBIKU\nJohn Williams:  INDIANA JONES\nJohn Williams:  HARRY POTTER\nHans Zimmer:  MADAGASCAR\nAlexandre Desplat:  NEW MOON\nBill Conti:  ROCKY\nRamin Djawadi:  GAME OF THRONES\nBažant\, Hála\, Malásek:  STARCI NA CHMELU
LOCATION:Slaný
END:VEVENT
END:VCALENDAR