BEGIN:VCALENDAR
VERSION:2.0
CALSCALE:GREGORIAN
PRODID:-//MyApp//Calendar 1.0//EN
BEGIN:VEVENT
METHOD:PUBLISH
UID:35378@regionalniportaly.cz
DTSTAMP:20260423T104151Z
DTSTART;VALUE=DATE:20240916
DTEND;VALUE=DATE:20240917
SUMMARY:Kafe u OSMANYHO | Benešov
DESCRIPTION:Zábavný pořad plný neuvěřitelných historek v podání Osmanyho Laffity míří do Benešova!Originální pořad s populární osobností módního světa.Devadesát minut neuvěřitelných historek ze života Osmanyho Laffity\, při kterých se divák baví od první chvíle. Osmany odhalí i to\, co mělo zůstat utajeno! A bez cenzury!Moderuje Eva Decastelo\, hudební host Bára Mottlová.
LOCATION:Benešov
END:VEVENT
END:VCALENDAR