BEGIN:VCALENDAR
VERSION:2.0
CALSCALE:GREGORIAN
PRODID:-//MyApp//Calendar 1.0//EN
BEGIN:VEVENT
METHOD:PUBLISH
UID:35387@regionalniportaly.cz
DTSTAMP:20260422T084144Z
DTSTART;VALUE=DATE:20231104
DTEND;VALUE=DATE:20231105
SUMMARY:Hardwicke Circus ( UK )
DESCRIPTION:Představte si\, že Rolling Stones vytvoří album s The Doors &nbsp\;jamujícími s Primal Scream. Tak to jsou Hardwicke Circus. Transformovali všechny tyto starší hudební vlivy do své vlastní originality. Jejich kariéru sleduje i Paul McCartney a mimo jiné jim sehnal i místo v programu loňského festivalu Glastonbury. Jsou první lokální kapelou\, která vyprodala v jejich rodném Carlise svůj koncert v legendárním sále The Brickyard čtyři měsíce předem a rychle přidala druhý\, také nakonec vyprodaný. Lídrem kapely je zpěvák a hlavní skladatel Jonny Foster přitahující pozornost nejen hlasem\, ale i tím\, že vyzařuje charisma Micka Jaggera z éry slavné skladby Brown Sugar. Hardwicke Circus předskakovali Bobu Dylanovi\, Bobu Geldofovi nebo Neilu Youngovi a vystupovali na legendárních festivalech Isle of Wight\, Reading &amp\; Leeds\, byli headlinery Yam Riot Stage na Kendal Calling a hráli také na BBC. Jde bezesporu o jednu z nejvíce vzrušujících kapel\, která se v posledních letech objevila ve Velké Británii. Díky tomu si tato kapela získala velkou sledovanost a fanoušky po celém Spojeném království a teď se bude ucházet i o Vaší přízeň. Město Černošice Vás srdečně zve v&nbsp\;sobotu 4.11 od 20.00 hod do Club Kina.
LOCATION:Černošice
END:VEVENT
END:VCALENDAR