BEGIN:VCALENDAR
VERSION:2.0
CALSCALE:GREGORIAN
PRODID:-//MyApp//Calendar 1.0//EN
BEGIN:VEVENT
METHOD:PUBLISH
UID:36515@regionalniportaly.cz
DTSTAMP:20260422T134119Z
DTSTART;VALUE=DATE:20231119
DTEND;VALUE=DATE:20231120
SUMMARY:Antonín Dvořák Svatební košile
DESCRIPTION:Erbenova báseň Svatební košile zhudebněná Antonínem Dvořákem zazní v podání sólistů absolventky HAMU a VŠE\, členky Pražského filharmonického sboru\, sbormistryně\, hosta mnoha festivalů a orchestrů Michaely Paterové v roli dívky s přáním navrácení milého\, nebo náhlé smrti\, zpěváka\, dirigenta\, uměleckého vedoucího Pražských Pěvců a Středočeského sboru\, multiinstrumentalisty a skladatele Stanislava Mistra v roli z hrobu vstavšího hocha\, čímž je dívce splněno přání první\, hoch však usiluje o splnění i toho druhého\, operního\, koncertního i chrámového pěvce\, absolventa FF UK\, kde též vede katedru pedagogiky Martina Strouhala v roli vypravěče a sboru Pražští Pěvci\, doprovázených Černošickou komorní filharmonií pod vedením Stanislava Mistra.Dílo bude provedeno ve verzi s klavírem a smyčcovým kvintetem vynikajícími sólisty\, komorními a orchestrálními hráči. Prvních houslí se ujme sólista a koncertní mistr českých i zahraničních orchestrů David Danel\, druhých ukrajinská lektorka letošních černošických hudebních kurzů\, absolventka Kyjevské akademie a Petrohradské konzervatoře Natalia Šumejko\, violy absolvent HAMU\, sólista a člen OA ČF Adam Pechočiak\, prvního violoncella ruská absolventka Petrozavodské a Moskevské akademie\, sólistka Moskevské Nové Opery Taťána Brajlovskaja\, druhého černošický violoncellista Jan Poul. Obtížného klavírního partu se zhostí absolventka Janáčkovy konzervatoře v Ostravě\, vídeňské MDW\, pražské HAMU\, kde též vyučuje\, klavíristka\, skladatelka a hudební režisérka Sylva Smejkalová\, místy ve spolupráci se zpěvačkou\, sbormistryní a klavíristkou Šárkou Mistrovou.Koncert podpořil Středočeský kraj a černošičtí občané.
LOCATION:Černošice
END:VEVENT
END:VCALENDAR