BEGIN:VCALENDAR
VERSION:2.0
CALSCALE:GREGORIAN
PRODID:-//MyApp//Calendar 1.0//EN
BEGIN:VEVENT
METHOD:PUBLISH
UID:36520@regionalniportaly.cz
DTSTAMP:20260423T021938Z
DTSTART;VALUE=DATE:20240528
DTEND;VALUE=DATE:20240529
SUMMARY:Normální debil | Benešov
DESCRIPTION:Přijďte se zasmát dobám dávno minulým!Originální retrokomedii Roberta Bellana&nbsp\;Normální debil&nbsp\;s podtitulem&nbsp\;Deník puberťáka aneb mé dětství v socialismu&nbsp\;uvedeme&nbsp\;v úterá&nbsp\;28. května&nbsp\;2024&nbsp\;od 19.00 hod. v kulturním domě Karlov v Benešově!Těší se na vás&nbsp\;Zbigniew Kalina\,&nbsp\;Robert Bellan\,&nbsp\;Lenka Zbranková&nbsp\;a&nbsp\;Veronika Čermák Macková.Divadelní hra Normální debil vznikla na motivy stejnojmenné knihy Roberta Bellana. Jedná se o retro komedii\, kdy základem vyprávění jsou příhody z autorova dětství prožitého v&nbsp\;socialistickém Československu.Během večera plného humoru\, nadsázky i nostalgie se ocitneme spolu s&nbsp\;hlavním hrdinou – známým průšvihářem Norbertem Intribusem – například v&nbsp\;socialistické domácnosti\, ve škole\, na fotbalovém hřišti\, u splavu\, v&nbsp\;nemocnici\, nebo třeba i překvapivě na hřbitovním sexuálním večírku.Nedílnou součástí inscenace je dobová „pop music“\, vysílání Československé televize a odborný pohled na psychický vulkanismus.
LOCATION:Benešov
END:VEVENT
END:VCALENDAR