BEGIN:VCALENDAR
VERSION:2.0
CALSCALE:GREGORIAN
PRODID:-//MyApp//Calendar 1.0//EN
BEGIN:VEVENT
METHOD:PUBLISH
UID:36688@regionalniportaly.cz
DTSTAMP:20260422T101318Z
DTSTART;VALUE=DATE:20231213
DTEND;VALUE=DATE:20231214
SUMMARY:Antikvartet Dušana Vančury
DESCRIPTION:Dušan Vančura patřil k velkým osobnostem domácí folkové scény. Zanechal po sobě kapelu Antikvartet. Čtyřčlenná kapela nabízí svěží čtyřhlasou podobu písní mnoha žánrů. Repertoár tvoří jak autorské\, tak převzaté skladby\, včetně tradicionálů z celého světa v nezaměnitelných úpravách nedávno zesnulého kapelníka Dušana Vančury\, dlouholetého člena Spirituál kvintetu. Můžete se těšit na hudbu napříč žánry a staletími\, která sahá od klasické čtyřhlasé sborové literatury přes lidové písně a spirituály\, až k soudobým moderním skladbám\, především s texty Dušana Vančury. V současnosti tvoří Antikvartet Zuzana Vančurová\, Magdalena Jungwirthová\, Tomáš Vávra a Jiří Mašek.
LOCATION:Černošice
END:VEVENT
END:VCALENDAR