BEGIN:VCALENDAR
VERSION:2.0
CALSCALE:GREGORIAN
PRODID:-//MyApp//Calendar 1.0//EN
BEGIN:VEVENT
METHOD:PUBLISH
UID:37136@regionalniportaly.cz
DTSTAMP:20260422T112625Z
DTSTART;VALUE=DATE:20231203
DTEND;VALUE=DATE:20231204
SUMMARY:Ben Poole band ( UK\, CZ )
DESCRIPTION:Kytarista a zpěvák Ben Poole je novým příslibem britské bluesové školy\, jeden z&nbsp\;nejlepších\, jaký se v&nbsp\;Evropě v&nbsp\;posledních letech objevil. Dokonce ani jeho hrdinové\, se kterými měl tu čest hrát na jednom pódiu (Jeff Beck\, Gary Moore a&nbsp\;John Mayall)\, nešetří pochvalami. Jeho nahrávky svědčí o&nbsp\;tom\, že máme co do činění s&nbsp\;budoucností evropské blues-rockové scény. Například nejprodávanější evropský kytarový časopis “Total Guitar” Bena označil za “kytaristu\, kterého stojí za to sledovat”.Jeho jméno se objevilo v&nbsp\;anketě British Blues Awards poprvé již v&nbsp\;roce 2012 a o rok později reprezentoval Spojené království v&nbsp\;soutěži “European Blues Challenge” Na svém kontě má tři nosiče. První “Everything I&nbsp\;Want” vyšel již v&nbsp\;roce 2010 a&nbsp\;produkoval ho známý kytarista Bernie Tormé. Jako druhé vyšlo CD s&nbsp\;názvem “Let's Go Upstairs”\, na jehož produkci se podílel slavný Isaac Nossel. Třetí nosič vyšel v&nbsp\;roce 2016 a&nbsp\;obsahuje nahrávky pořízené v&nbsp\;průběhu koncertu v&nbsp\;londýnské Royal Albert Hall. Všechna tři alba svědčí o&nbsp\;tom\, že máme co do činění se zajímavým skladatelem\, vyzrálým instrumentalistou a&nbsp\;soulově a bluesově procítěným zpěvákem. Ben Poole band hraje ve složení Ben Poole (UK) – kytara\, zpěv\, Tomáš Lacina – baskytara\, Roman Vícha – bicí.
LOCATION:Černošice
END:VEVENT
END:VCALENDAR