BEGIN:VCALENDAR
VERSION:2.0
CALSCALE:GREGORIAN
PRODID:-//MyApp//Calendar 1.0//EN
BEGIN:VEVENT
METHOD:PUBLISH
UID:37686@regionalniportaly.cz
DTSTAMP:20260422T133714Z
DTSTART;VALUE=DATE:20240120
DTEND;VALUE=DATE:20240121
SUMMARY:Hudba Praha
DESCRIPTION:Charakteristický souzvuk kytar bratří Zatloukalů\, zakládajících členů skupin Jasná Páka a Hudba Praha\, doplněný o dunivou basovou kytaru Jirky Jelínka je zárukou původního soundu kapely Hudba Praha. Sestavu doplňují frontman Zdeněk Hnyk\, jehož hlas můžete znát z vysílání pražského Radia 1\, bubeník Tomáš Stloukal a původní vokalistky Hudby Praha Jamajka Koblicová a Daniela Litváková Čelková. Na saxofon hraje Jakub Douda. Hudba Praha&nbsp\; - hraje největší hity Jasné páky a Hudby Praha jako Zákon o zachování energie\, Špinavý záda\, Pal vocuď\, Cizej chlap\, Holka Tonka\, To tak\, Marihuana\, Máma táta\, Můry\, Lunapark a na koncertě představí i písně z&nbsp\;nového alba Barevný sny. Rokenrolu nazdar!
LOCATION:Černošice
END:VEVENT
END:VCALENDAR