BEGIN:VCALENDAR
VERSION:2.0
CALSCALE:GREGORIAN
PRODID:-//MyApp//Calendar 1.0//EN
BEGIN:VEVENT
METHOD:PUBLISH
UID:37687@regionalniportaly.cz
DTSTAMP:20260422T143845Z
DTSTART;VALUE=DATE:20240207
DTEND;VALUE=DATE:20240208
SUMMARY:Luboš Pospíšil Trio
DESCRIPTION:Matador české hudební scény s hlasem\, který si nespletete\, přijede do černošického Club Kina 7.2. v&nbsp\;triu s&nbsp\;kapelníkem své doprovodné kapely 5P\, klávesistou a kytaristou Ondřejem Fenclem (též V. Merta\, Marsyas\, Schodiště\, Hromosvod\, V.Koubek\, Mňága a Žďorp…) a perkusistou Michalem Hnátkem (divadlo Elf\, Jan Hrubý trio atd).
LOCATION:Černošice
END:VEVENT
END:VCALENDAR