BEGIN:VCALENDAR
VERSION:2.0
CALSCALE:GREGORIAN
PRODID:-//MyApp//Calendar 1.0//EN
BEGIN:VEVENT
METHOD:PUBLISH
UID:37735@regionalniportaly.cz
DTSTAMP:20260422T130500Z
DTSTART;VALUE=DATE:20240107
DTEND;VALUE=DATE:20240108
SUMMARY:Tříkrálový koncert
DESCRIPTION:Tříkrálový koncert v černošickém kosteleV neděli 7.1. 2024 v 18h zazní v kostele Nanebevzetí Panny Marie Magnificat Antonia Vivaldiho a další vánoční skladby Arcangela Corelliho\, Gustava Holsta\, Jana Pieterszoona Sweelincka\, Marka Hayese\, Davida Pinkhama a Václava Polívky v podání Pražských Pěvců a Černošické komorní filharmonie\, řídí Stanislav Mistr.Vstupné 200/100Kč na smsticket.cz a 1/2h předem na místě. Koncert podpořili občané Černošic\, Středočeský kraj a farnost Třebotov.
LOCATION:Černošice
END:VEVENT
END:VCALENDAR