BEGIN:VCALENDAR
VERSION:2.0
CALSCALE:GREGORIAN
PRODID:-//MyApp//Calendar 1.0//EN
BEGIN:VEVENT
METHOD:PUBLISH
UID:37822@regionalniportaly.cz
DTSTAMP:20260422T133821Z
DTSTART;VALUE=DATE:20240121
DTEND;VALUE=DATE:20240122
SUMMARY:Ženich pro čertici aneb Sedmimílové boty
DESCRIPTION:Začátek: 21. 1. 2024 | 15.00Konec: 21. 1. 2024 | 15.55Místo konání: divadelní sál MKDVstupné: 120 Kč\nVeselá pohádka s melodickými písničkami vypráví jednoduchou\, ale vtipnou zápletku o čertici Teofile\, která využila nesnází ševce Pápěry k tomu\, aby získala ženicha. Král Tonemám a jeho pobočník hrabě Kýval chamtivě sbírají po celém království vše\, co se jim namane. Navštíví i chalupu ševce Pápěry a jeho ženy Nanynky\, kteří králi slíbí\, že mu švec ušije sedmimílové boty. A protože takové boty mají jenom v pekle\, rozhodne se čertice Teofila\, že boty vymění za ženicha. A když se do toho vloží i kmotra Vědělka\, vznikne z toho veselý příběh\, který pobaví nejen děti\, ale i jejich rodiče.\n \nAutor: Helena Lisická a Miroslav BourekRežie: Miroslav FišerProdukce: Milan Hercik a Blanka FišerováHudba: Jan Pavel\, úprava Jiří BenešVýprava: Miroslav Fišer a Jolana FraňkováKostýmy\, masky: Ivana Illichmannová a Jana Ježková\n \n \nOsoby a obsazení\n \n \nSalamandr\, starý čert - Vladimír Kopáček j.h.Čertice Teofila - Jolana FraňkováŠvec Vendelín Pápěra - Jakub CharvátŠevcová Nanynka - Blanka FišerováKmotra Vědělka - Hana SvobodováKrál Tonemám I. - Milan HercikHrabě Kýval - Petr Svoboda\n \n \nSoutěže přehlídky Divadlo dětem 2024\n \n \nDěti kreslí divadlo\n \n \nVýtvarné soutěže se mohou zúčastnit všechny děti\, které v průběhu celé divadelní přehlídky (nejpozději před zahájením poslední pohádky 4. února 2024) přinesou na recepci MKD nakreslený obrázek inspirovaný některou z pohádek. Díla malých výtvarníků budou během divadelní přehlídky vystavena v prostorách MKD. Porotou vybraní autoři získají drobné ceny. Nezapomeňte obrázky podepsat a připsat kontakt na rodiče (telefon/e-mail).Vyhlášení vítězů proběhne 11. 2. 2024 na dětském karnevalu.\n \n \nSoutěž o návštěvníka přehlídky\n \n \nSbírejte razítka za účast na pohádkách a zúčastněte se losování o drobné ceny. Pro zařazení do osudí stačí 2 razítka na soutěžní kartičce.Losování vítězů soutěže o návštěvníka přehlídky proběhne po skončení posledního divadelního představení 4. 2. 2024 na pódiu.\n \n \nNejhezčí masky karnevaluOdborná porota vybere v průběhu karnevalu 11. 2. 2024 vítěze s nejhezčí a nejzajímavější maskou. Vítězové budou odměněni drobným dárkem.\n \n 
LOCATION:Mělník
END:VEVENT
END:VCALENDAR