BEGIN:VCALENDAR
VERSION:2.0
CALSCALE:GREGORIAN
PRODID:-//MyApp//Calendar 1.0//EN
BEGIN:VEVENT
METHOD:PUBLISH
UID:37830@regionalniportaly.cz
DTSTAMP:20260422T115533Z
DTSTART;VALUE=DATE:20231219
DTEND;VALUE=DATE:20231220
SUMMARY:Melodie černobílé a barevné
DESCRIPTION:Začátek: 19. 1. 2024 | 19.00Konec: 19. 1. 2024 | 20.45Místo konání: divadelní sál MKDVstupné: 200 Kč\n \n \nPrvní koncert Velkého dechového orchestru Mělník v sezóně 2024 přinese úplně nový a netradiční program. \nPod taktovkou paní dirigentky Kateřiny Novákové zazní filmové melodie\, jež zavedou posluchače mezi dámy a gentlemany první republiky\, do ollywoodu\, na Francouzskou riviéru\, do zlaté Prahy\, zazní řízné pochody i něžné valčíky a nebudou chybět melodie Osvobozeného divadla a Semaforu.
LOCATION:Mělník
END:VEVENT
END:VCALENDAR