BEGIN:VCALENDAR
VERSION:2.0
CALSCALE:GREGORIAN
PRODID:-//MyApp//Calendar 1.0//EN
BEGIN:VEVENT
METHOD:PUBLISH
UID:37841@regionalniportaly.cz
DTSTAMP:20260422T143759Z
DTSTART;VALUE=DATE:20240204
DTEND;VALUE=DATE:20240205
SUMMARY:Kleofáš a Bětuška
DESCRIPTION:Začátek: 4. 2. 2024 | 15.00Konec: 4. 2. 2024 | 16.00Místo konání: divadelní sál MKDVstupné: 120 Kč\n \nPohádka o čertovi Kleofášovi\, který se vydá na svět\, aby do pekla vrátil kouzelný amulet a odnesl zlou královnu Filoménu. Na své cestě potká také komornou Bětušku. Může však čert milovat člověka? A podaří se jim překonat všechny nástrahy a zákony pekla?\n \nČertovská pohádka Divadelního spolku Karel Čapek Děčín\nNapsala: Jindřiška Netrestová\nRežie: Karla VázlerováSvětla a zvuk: Petr LorencNápověda: Jiřina Bartáková\n \nOsoby a obsazení:\nKlaofáš - Martin NedvědBětuška - Eliška KoričarováKanimůra - Lída PanenkováKrálovna Filoména - Patra NedvědováLucifer - Michal NedvědBarnabáš - Zbyněk GoldammerKopejtko - Ondra KejzlarBonifác - Mirek KejzlarSelka - Ana Kejzlarová/Jiřina Bartáková
LOCATION:Mělník
END:VEVENT
END:VCALENDAR