BEGIN:VCALENDAR
VERSION:2.0
CALSCALE:GREGORIAN
PRODID:-//MyApp//Calendar 1.0//EN
BEGIN:VEVENT
METHOD:PUBLISH
UID:38063@regionalniportaly.cz
DTSTAMP:20260422T221320Z
DTSTART;VALUE=DATE:20240426
DTEND;VALUE=DATE:20240427
SUMMARY:nAPuNK! v Říčanech / Vision Days\, Volant\, Sticx
DESCRIPTION:Tradiční punk-ska-rocková veselice v říčanském svatostánku kultury - KC Labuť.Vystoupí:Vision Days - SvitavyVolant - PardubiceSticx - Domažlice
LOCATION:Říčany
END:VEVENT
END:VCALENDAR