BEGIN:VCALENDAR
VERSION:2.0
CALSCALE:GREGORIAN
PRODID:-//MyApp//Calendar 1.0//EN
BEGIN:VEVENT
METHOD:PUBLISH
UID:38299@regionalniportaly.cz
DTSTAMP:20260422T215724Z
DTSTART;VALUE=DATE:20240419
DTEND;VALUE=DATE:20240420
SUMMARY:Refew a Jaroslav Oláh s live bandem
DESCRIPTION:"Refew - rapper\, zpěvák a moderátor je bezpochyby jednou z nejvýraznějších tváří české rapové scény. Téměř každý jeho videoklip atakuje přední příčky žebříčku trendů na YouTube a úspěch slaví i na Spotify\, kde ho měsíčně poslouchá přes čtvrt milionu lidí.&nbsp\;Jaroslav Oláh -&nbsp\; stále populárnější r&amp\;b zpěvák\, jehož hit Nemůžu zapomenout\, se zapsal do paměti širší veřejnosti. Na akci vystoupí společně se svou kapelou.&nbsp\;vstupné: 250\,-VIP s meet &amp\; greet 1200\,-
LOCATION:Čelákovice
END:VEVENT
END:VCALENDAR