BEGIN:VCALENDAR
VERSION:2.0
CALSCALE:GREGORIAN
PRODID:-//MyApp//Calendar 1.0//EN
BEGIN:VEVENT
METHOD:PUBLISH
UID:38540@regionalniportaly.cz
DTSTAMP:20260422T132814Z
DTSTART;VALUE=DATE:20240116
DTEND;VALUE=DATE:20240117
SUMMARY:Kafe u OSMANYHO | Neratovice
DESCRIPTION:Zábavný pořad plný neuvěřitelných historek v podání Osmanyho Laffity míří do Neratovic!Originální pořad s populární osobností módního světa.Devadesát minut neuvěřitelných historek ze života Osmanyho Laffity\, při kterých se divák baví od první chvíle. Osmany odhalí i to\, co mělo zůstat utajeno! A bez cenzury!Moderuje Eva Decastelo\, hudební host Bára Mottlová.
LOCATION:Neratovice
END:VEVENT
END:VCALENDAR