BEGIN:VCALENDAR
VERSION:2.0
CALSCALE:GREGORIAN
PRODID:-//MyApp//Calendar 1.0//EN
BEGIN:VEVENT
METHOD:PUBLISH
UID:38567@regionalniportaly.cz
DTSTAMP:20260422T185750Z
DTSTART;VALUE=DATE:20240301
DTEND;VALUE=DATE:20240302
SUMMARY:Autobusy – Maturitní ples GBL 2024
DESCRIPTION:Oficiální autobusová doprava na maturitní ples brandýského gymnázia\, který se bude konat 1. března 2024 v Domě kultury Mladá Boleslav.&nbsp\;Odjezdy autobusů TAM:&nbsp\;bus A) 18:00 Brandýs n. L.\, nádraží → 18:02 Brandýs n. L.\, náměstí → 18:06 Stará Boleslav\, Školní → Dům kultury Mladá Boleslav&nbsp\;bus B) 18:10 Brandýs n. L.\, nádraží → 18:12 Brandýs n. L.\, náměstí → 18:16 Stará Boleslav\, Školní → Dům kultury Mladá Boleslav&nbsp\;bus C) 18:00 Čelákovice\, náměstí → 18:05 Lázně Toušeň → 18:09 Brandýs n. L.\, Gymnázium J. S. Machara → Dům kultury Mladá Boleslav&nbsp\;Odjezdy autobusů ZPĚT:&nbsp\;bus D) 0:45 Dům kultury Mladá Boleslav → Stará Boleslav\, Školní → Brandýs n. L.\, nádraží → Lázně Toušeň → Čelákovice\, náměstí&nbsp\;bus E) 2:00 Dům kultury Mladá Boleslav → Stará Boleslav\, Školní → Brandýs n. L.\, nádraží → Lázně Toušeň → Čelákovice\, náměstí&nbsp\;bus F) 2:30 Dům kultury Mladá Boleslav → Stará Boleslav\, Školní → Brandýs n. L.\, nádraží → Lázně Toušeň → Čelákovice\, náměstí
LOCATION:Brandýs nad Labem-Stará Boleslav
END:VEVENT
END:VCALENDAR