BEGIN:VCALENDAR
VERSION:2.0
CALSCALE:GREGORIAN
PRODID:-//MyApp//Calendar 1.0//EN
BEGIN:VEVENT
METHOD:PUBLISH
UID:38605@regionalniportaly.cz
DTSTAMP:20260422T204153Z
DTSTART;VALUE=DATE:20240419
DTEND;VALUE=DATE:20240420
SUMMARY:Visací zámek
DESCRIPTION:
LOCATION:Říčany
END:VEVENT
END:VCALENDAR