BEGIN:VCALENDAR
VERSION:2.0
CALSCALE:GREGORIAN
PRODID:-//MyApp//Calendar 1.0//EN
BEGIN:VEVENT
METHOD:PUBLISH
UID:38622@regionalniportaly.cz
DTSTAMP:20260422T185611Z
DTSTART;VALUE=DATE:20240228
DTEND;VALUE=DATE:20240229
SUMMARY:Leaving Spirit (DE)
DESCRIPTION:Srdečně Vás zveme v&nbsp\;středu 28.2 od 20.00 do Club kina na partu 6 mladých lidí\, která si říká Leaving Spirit s fenomenální zpěvačkou Paulou Frecot. Rocková hudba souboru s výraznými vlivy blues\, country a jižanského rocku opravdu šlape! Šest mladých hudebníků z bavorského Würzburgu\, představuje převzaté i původní písně ve stylu Neila Younga\, Eagles\, Roberta Johnsona\, Allman Brothers a mnohých dalších. Jejich debutové album „Things Change“ vyšlo v roce 2019 na všech digitálních platformách a na CD. Kromě klasické rockové formace založené na hutně „jižanském“ zvuku třech kytar\, basy a bicích\, používají muzikanti i některé exotičtější nástroje jako je lap steel kytara\, mandolína a bluesová harfa. Leaving Spirit odehráli po dobu své existence spoustu koncertů v klubech a na festivalech po celém Bavorsku a následně i po celém Německu. Šest mladých hudebníků hraje rock s výrazným vlivem blues\, country a jižanského rocku a udržuje dál ducha staré dobré rockové hudby.
LOCATION:Černošice
END:VEVENT
END:VCALENDAR