BEGIN:VCALENDAR
VERSION:2.0
CALSCALE:GREGORIAN
PRODID:-//MyApp//Calendar 1.0//EN
BEGIN:VEVENT
METHOD:PUBLISH
UID:39366@regionalniportaly.cz
DTSTAMP:20260423T004729Z
DTSTART;VALUE=DATE:20240525
DTEND;VALUE=DATE:20240526
SUMMARY:MALVAFEST 2024
DESCRIPTION:Druhý ročník multižánrového festivalu v malebném areálu MALOVARSKÉHO RYBNÍKA ve&nbsp\;Velvarech.Po celý den je připravený program mnoha hudebních žánrů.Na své si přijdou i děti\, pro které je připraven&nbsp\;zábavný program\, malování na obličej a skákací hrady.O hudební produkci se postarají kapely:-&nbsp\;Jindra Kejak&nbsp\;(FOLK)-&nbsp\;Jahtec Jammin Job&nbsp\;(REGGAE)-&nbsp\;Globus Band&nbsp\;(ZÁBAVA)-&nbsp\;Civilní Obrana&nbsp\;(PUNK ROCK)-&nbsp\;O5 a Radeček&nbsp\;(POP-ROCK)V areálu festivalu je k dispozici občerstvení.Děti mají vstup&nbsp\;zdarma.
LOCATION:Velvary
END:VEVENT
END:VCALENDAR