BEGIN:VCALENDAR
VERSION:2.0
CALSCALE:GREGORIAN
PRODID:-//MyApp//Calendar 1.0//EN
BEGIN:VEVENT
METHOD:PUBLISH
UID:39603@regionalniportaly.cz
DTSTAMP:20260423T004905Z
DTSTART;VALUE=DATE:20240525
DTEND;VALUE=DATE:20240526
SUMMARY:S Prago Union na tábor
DESCRIPTION:S Prago Union na tábor...V areálu pivovaru Ferdinand v Benešově u Prahy\, který je zároveň hlavním partnerem akce\, se můžete těšit mimo Prago Union i na Kontrol\, Furt Fajn a Lil Dee. Pro mladší návstěvníky máme připravený skákací hrady\, airbrush tattoo\, barevné copy...13:00 otevření bran pivovaru Ferdinand14:00 představení spolku Živá duše v nouzi z.s. a jeho aktivit pomoci15:30 Lil Dee17:00 Prago Union s kapelou18:30 Kontrol20:00 Furt Fajn21:00 Jacob Kugler22:00 ukončení akceVýtěžek z akce bude použit na úhradu letních táborů\, pro rodiny klientů ŽDVN.FB událost:&nbsp\;fb.me/e/1MLlrzgQmweb ŽDVN:&nbsp\;zdvn.cz/aktualitytábory pro děti:&nbsp\;ferdak.cz/taborymísto konání akce:&nbsp\;&nbsp\;www.pivovarferdinand.cz/&nbsp\;&nbsp\;Pořadetel si vyhrazuje právo na změny v programu.&nbsp\;&nbsp\;
LOCATION:Benešov
END:VEVENT
END:VCALENDAR