BEGIN:VCALENDAR
VERSION:2.0
CALSCALE:GREGORIAN
PRODID:-//MyApp//Calendar 1.0//EN
BEGIN:VEVENT
METHOD:PUBLISH
UID:39694@regionalniportaly.cz
DTSTAMP:20260422T173226Z
DTSTART;VALUE=DATE:20240315
DTEND;VALUE=DATE:20240316
SUMMARY:Petr Kalfus Trio
DESCRIPTION:Kapela je složena z vynikajících muzikantů dlouhodobě etablovaných na české i zahraniční jazzové scéně. Petr Kalfus studoval saxofon a absolvoval na hudební akademii v polských Katovicích a ve studiu pokračoval na HAMU v Praze. Pravidelně hraje v Jazz Dock Orchestra a působí jako lídr mnoha menších hudebních těles a uskupení. Trio zahraje moderní jazzový repetorár\, vlastní skladby a samozřejmě nebudou chybět ani jazzové standardy. Trio hraje v obsazení Petr Kalfus - saxofony\, Jan Andr - Hammondovy varhany a Tomáš Hobzek na bicí
LOCATION:Černošice
END:VEVENT
END:VCALENDAR