BEGIN:VCALENDAR
VERSION:2.0
CALSCALE:GREGORIAN
PRODID:-//MyApp//Calendar 1.0//EN
BEGIN:VEVENT
METHOD:PUBLISH
UID:39697@regionalniportaly.cz
DTSTAMP:20260422T190846Z
DTSTART;VALUE=DATE:20240325
DTEND;VALUE=DATE:20240326
SUMMARY:Bex Marshall (GB)
DESCRIPTION:Hudební tornádo z&nbsp\;Británie. Nositelka ocenění “British Blues Awards” Bex Marshall&nbsp\;vyniká jedinečným stylem své kytarové hry\, ve kterém spojuje klouzavou slide techniku\, blues rock\, ragtime a roots music. Její hlas je kombinací vokálu staré utrápené černošky a soulového feelingu rockové hvězdy. Bex posunuje hranice blues\, její písně byly opakovaně označovány britskou hudební kritikou jako “nadčasově\, s občasnými doteky geniality”.&nbsp\; Koncertní nasazení Bex je pak hodnoceno doslova jako “hudební tornádo”.&nbsp\; Další její neoficiální přezdívkou je 1st&nbsp\;lady of the British Blus (první dáma britského blues).. Na &nbsp\;“British Blues Awards” získala opakovaně&nbsp\;Cenu za nejlepší britskou bluesovou zpěvačku&nbsp\;a&nbsp\;bluesové album roku.&nbsp\;Na Bexiných&nbsp\;posledních albech najdete louisianské blues\, čitelné stopy gospelu i bluegrassu.
LOCATION:Černošice
END:VEVENT
END:VCALENDAR