BEGIN:VCALENDAR
VERSION:2.0
CALSCALE:GREGORIAN
PRODID:-//MyApp//Calendar 1.0//EN
BEGIN:VEVENT
METHOD:PUBLISH
UID:40892@regionalniportaly.cz
DTSTAMP:20260422T222052Z
DTSTART;VALUE=DATE:20240426
DTEND;VALUE=DATE:20240427
SUMMARY:Tomáš Linka - PAMĚTI COUNTRYMANA-Koncert\, talkshow\, večeře
DESCRIPTION:KONCERT\, TALK SHOW\, VEČEŘE(VSTUPNÉ ZAHRNUJE VEČEŘI A NÁPOJ)Tomáš Linka a spoluautor jeho životopisné knihy Petr Mečíř zrekapitulují 55 let Tomášova muzikantského života včetně vzpomínek na Michala Tučného. Nahlédnou do zákulisí jejich spolupráce v kapelách GREENHORNS a FEŠÁCI.Odtajní dosud nezveřejněné fotografie\, filmy a nahrávky&nbsp\;www.hostinecvdoubku.cz
LOCATION:Doubek
END:VEVENT
END:VCALENDAR