BEGIN:VCALENDAR
VERSION:2.0
CALSCALE:GREGORIAN
PRODID:-//MyApp//Calendar 1.0//EN
BEGIN:VEVENT
METHOD:PUBLISH
UID:40985@regionalniportaly.cz
DTSTAMP:20260422T205134Z
DTSTART;VALUE=DATE:20240414
DTEND;VALUE=DATE:20240415
SUMMARY:Velikonoční koncert
DESCRIPTION:Velikonoční oratorium J.S. Bacha - veselá hudba s trubkami\, tympány a flétnami\, smyčci\, harfou\, varhanami a sólisty vyzývajících k jásotu a naplnění srdce smíchem a žertem nad prázdným hrobem\, dokazujícím\, že zlý záměr mocných s vydíranou státní správou a navedeným oklamaným zdivočelým davem zase jednou nevyšel\, jemné napomenutí lhostejným a váhavým\, touha po věčné radosti a slavnostní sdělení o vítězném příchodu lva z Judska bude vystřídáno něžnou Cherubínskou písní K. Pendereckého a kantátou pro sólový soprán a sbor Starodávné čarování P. Ebena - vášnivou prosbou dívky o lásku svého vyvoleného\, která by mu nedovolila nic jiného\, než na ní myslet silou\, co mu nedovolí jíst\, spát\, odtrhne jej od rodiny a za ní\, kterou bude považovat za dražší než všechny poklady a královny\, okamžitě nejvyšší rychlostí přiběhne\, nedbaje překážek v podobě vod\, hor\, či mříží.Hrát bude Černošická komorní filharmonie\, zpívat Pražští Pěvci\, sopránového sóla klinického případu se zhostí Eliška Mistrová\, vítězka několika pěveckých soutěží\, skladatelka a přes své mládí zkušená ostřílená sólistka v klasické i rockové hudbě\, tenorového sóla Evangelisty a řízení orchestru se sborem zpěvák\, multiinstrumentalista\, skladatel a dirigent Stanislav Mistr.Vstupné 200/100 Kč. Koncert podpořili černošičtí občané\, Středočeský kraj a farnost Třebotov
LOCATION:Černošice
END:VEVENT
END:VCALENDAR