BEGIN:VCALENDAR
VERSION:2.0
CALSCALE:GREGORIAN
PRODID:-//MyApp//Calendar 1.0//EN
BEGIN:VEVENT
METHOD:PUBLISH
UID:41005@regionalniportaly.cz
DTSTAMP:20260422T221024Z
DTSTART;VALUE=DATE:20240427
DTEND;VALUE=DATE:20240428
SUMMARY:Zázračné cvičení
DESCRIPTION:Čeká vás přibližně 120 minut plných zábavy\, životních mouder a faktů. Pauza na popadnutí dechu v délce 20 minut. Přejeme vám nezapomenutelný večer s úsměvem na rtech.Vztahy mezi mužem a ženou bývají nevyzpytatelné. Často připomínají jízdu na horské dráze a někdy zase bývají až pohádkově kouzelné. Možná se společně najdeme ve stejných situacích\, které Vás dříve či později rozesmějí.Jak vyřeší své partnerské problémy Valentýn a Joana se vztahovým terapeutem\, to se diváci dozví v brilantní humorné komedii Daniela Glattaura Zázračné cvičení\, v podání režisérského pera Michaela Taranta.Od 18:00 pro Vás bude otevřený sál a připraveno občerstvení (pivo\, víno a další dobroty).
LOCATION:Kaliště
END:VEVENT
END:VCALENDAR