BEGIN:VCALENDAR
VERSION:2.0
CALSCALE:GREGORIAN
PRODID:-//MyApp//Calendar 1.0//EN
BEGIN:VEVENT
METHOD:PUBLISH
UID:41174@regionalniportaly.cz
DTSTAMP:20260422T233034Z
DTSTART;VALUE=DATE:20240513
DTEND;VALUE=DATE:20240514
SUMMARY:Geologické pokusy do školy i domů: nitro Země
DESCRIPTION:
LOCATION:Říčany
END:VEVENT
END:VCALENDAR