BEGIN:VCALENDAR
VERSION:2.0
CALSCALE:GREGORIAN
PRODID:-//MyApp//Calendar 1.0//EN
BEGIN:VEVENT
METHOD:PUBLISH
UID:41281@regionalniportaly.cz
DTSTAMP:20260422T233100Z
DTSTART;VALUE=DATE:20240516
DTEND;VALUE=DATE:20240517
SUMMARY:Black City ( Itálie )
DESCRIPTION:Fantasticky našlápnutý funk &amp\; soul kvarteta z italského Turína (kytara\, klávesy\, basa\, bicí\, tři zpěvy\, časté použití vícehlasů). Kapela vznikla v roce 2015 jako mezinárodní sestava (aktuálně Američan\, dva Italové a Kubánec) a má za sebou debutovou desku Wake Up! Skvělá živá "Pulpy Funky Show" !!! Vynikající kubánský bubeník\, držící strojový rytmus\, nepřehlédnutelně vyčouhlý\, spolehlivý basák a šikovný drobný kytarista\, který pojal svůj styl jako mix kytarové hry T-Bonea Walkera\, Franka Zappy a Freddieho Kinga. Od roku 2021 je kapela rozšířena na kvarteto\, čtvrtý hráčem bývá buď klávesista\, nebo variantně tenor saxofonista.
LOCATION:Černošice
END:VEVENT
END:VCALENDAR