BEGIN:VCALENDAR
VERSION:2.0
CALSCALE:GREGORIAN
PRODID:-//MyApp//Calendar 1.0//EN
BEGIN:VEVENT
METHOD:PUBLISH
UID:41282@regionalniportaly.cz
DTSTAMP:20260422T221039Z
DTSTART;VALUE=DATE:20240430
DTEND;VALUE=DATE:20240501
SUMMARY:Koncert No Name
DESCRIPTION:Koncert skupiny No Name v Úvalech na hřišti pod kostelem v rámci akce Čarodějnice 2024 od 20:00 hodin.
LOCATION:Úvaly
END:VEVENT
END:VCALENDAR