BEGIN:VCALENDAR
VERSION:2.0
CALSCALE:GREGORIAN
PRODID:-//MyApp//Calendar 1.0//EN
BEGIN:VEVENT
METHOD:PUBLISH
UID:41284@regionalniportaly.cz
DTSTAMP:20260423T010608Z
DTSTART;VALUE=DATE:20240530
DTEND;VALUE=DATE:20240531
SUMMARY:Štěpán Markovič & Gipsy Groove
DESCRIPTION:Hudební projekt jazzového saxofonisty Štěpána Markoviče v doprovodu funky kapely Gipsy Groove.Kapelu tvoří hudebníci\, kteří svou muzikálností uchvátili posluchače například v roli předkapely legendy Jamese Browna či Gipsy Kings. Mezi výrazné počiny patří i spolupráce s Dougem Wimbishem\; jejich společné album získalo v roce 2003 cenu Anděl za nejlepší desku v kategorii world music. Štěpán Markovič patří k nejvýraznějším osobnostem tuzemské jazzové scény. Doprovázel neuvěřitelnou řadu českých i zahraničních hvězd. Nelze nezmínit jeho spolupráci s Ray Charlesem či Lizou Minnelli. Jeho projekt „Štěpán Markovič Gipsy Groove“ přináší konkrétní představu o excelentním citu jazzmana pro spojování rozdílných hudebních žánrů.
LOCATION:Černošice
END:VEVENT
END:VCALENDAR