BEGIN:VCALENDAR
VERSION:2.0
CALSCALE:GREGORIAN
PRODID:-//MyApp//Calendar 1.0//EN
BEGIN:VEVENT
METHOD:PUBLISH
UID:41392@regionalniportaly.cz
DTSTAMP:20260423T010656Z
DTSTART;VALUE=DATE:20240529
DTEND;VALUE=DATE:20240530
SUMMARY:Mifun a Columbella
DESCRIPTION:Mifun je dětský pěvecký sbor\, japonský vítr a kdysi jeden zvláštní kocour...Mifun umožňuje dětem objevovat a rozvíjet svůj hudební talent tvořivě a nenásilně. Mifun se setkává jednou týdně na zkouškách a tématických workshopech\, pořádá vystoupení\, organizuje mezinárodní výměny a soustředění. Mifun připravuje své projekty s profesionálními umělci a zkušenými lektory. Mifun se inspiruje světem klasické hudby (Bach\, Mozart\, Elgar\, Britten\, Dvořák\, Janáček aj.)\, jazzu (Aretha Franklin\, Johny Mercer)\, pop (Michael Jackson) a world music (latino\, Afrika\, klezmer\, gipsy aj.) i pražskými lidovými „odrhovačkami“. Mifun pracuje pod vedením sbormistra Jiřího Polívky&nbsp\;Sbor Columbella se rodil na Gymnáziu Oty Pavla v radotíně pomalu a v bolestech na konci minulého tisíciletí. Pro zjednodušení jeho zakladatelka a současná sbormistryně v jedné osobě uvádí rok 2000. Kromě covidové pauzy pracoval pilně a bez přerušení. Repertoár Columbelly je poměrně pestrý\, nicméně asi nejblíže máme ke sprirituálům\, jazzovým písním Osvobozeného divadla\, nejrůznějším populárním hitům. Na koncertech nechybí ani úpravy lidových písní českých i cizokrajných\, tu a tam zabrousí i do oblasti vážné hudby. Členstvo se většinově rekrutuje z řad studentů školy\, což způsobuje stálou cyklickou obměnu zpěváků. Dobrou tradicí je\, že někteří členové zůstávají svému tělesu věrní i po maturitě. Sbor se schází jednou týdně\, od samých počátků vždy v pátek odpoledne. Nácvik probíhá i na soustředěních organizovaných dvakrát do roka. Sbor pořádá samostatné koncerty\, vystupuje na prakticky všech akcích gymnázia\, občas se účastní festivalů a přehlídek ...
LOCATION:Černošice
END:VEVENT
END:VCALENDAR