BEGIN:VCALENDAR
VERSION:2.0
CALSCALE:GREGORIAN
PRODID:-//MyApp//Calendar 1.0//EN
BEGIN:VEVENT
METHOD:PUBLISH
UID:41407@regionalniportaly.cz
DTSTAMP:20260423T093333Z
DTSTART;VALUE=DATE:20240905
DTEND;VALUE=DATE:20240906
SUMMARY:Noc Filmové Hudby 2024
DESCRIPTION:Další a opět ještě více propracovanější show\, která se koná pod širým nebem v amfiteátru letního kina Houštka ve Staré Boleslavi.\nHudební těleso Big Evr Band se svými hosty a spřátelenými sbory (celkem 120 muzikantů) zahraje výběr nejznámějších filmových hitů ve spojení s filmovou projekcí doplněnou o audiovizuální\, filmové\, světelné a pyrotechnické efekty. Celá show graduje s energickým výkonem kapelníka Josefa Popelky ml.\, který dokazuje\, že dirigent nemusí stát vždy jen na jednom místě.
LOCATION:Brandýs nad Labem-Stará Boleslav
END:VEVENT
END:VCALENDAR