BEGIN:VCALENDAR
VERSION:2.0
CALSCALE:GREGORIAN
PRODID:-//MyApp//Calendar 1.0//EN
BEGIN:VEVENT
METHOD:PUBLISH
UID:41408@regionalniportaly.cz
DTSTAMP:20260423T105354Z
DTSTART;VALUE=DATE:20240907
DTEND;VALUE=DATE:20240908
SUMMARY:Food Festival Brandýs 2024
DESCRIPTION:Další ročník rodinného festivalu v nádherné zámecké zahradě v Brandýse nad Labem. Tradiční den plný zábavy\, vystoupení\, dětských atrakcí a především výběrem ze současné street food scény. Nebude chybět škola vaření\, gastrostudio\, přednášky a spoustu dalších aktivit. Účastníky čeká soutěž v pojídání chilli jídel a soutěž v pojídání ne úplně tradičních pokrmů z celého světa. Celodenní program na hlavním podiu včetně soutěží o ceny a již tradičního běhu na běžkách.
LOCATION:Brandýs nad Labem-Stará Boleslav
END:VEVENT
END:VCALENDAR