BEGIN:VCALENDAR
VERSION:2.0
CALSCALE:GREGORIAN
PRODID:-//MyApp//Calendar 1.0//EN
BEGIN:VEVENT
METHOD:PUBLISH
UID:41773@regionalniportaly.cz
DTSTAMP:20260422T204004Z
DTSTART;VALUE=DATE:20240421
DTEND;VALUE=DATE:20240422
SUMMARY:Pohádka pro děti O Palečkovi
DESCRIPTION: \nHerci na klasickém pohádkovém příběhu dětem citlivě ukazují\, jak pevné je pouto mezi dítětem a rodinou.Loutková pohádka je doprovázena řadou písniček živě na kytaru a zobcovou flétnu.\n \nÚčinkují Anna a Rostislav Novákovi\n \nPohádka je vhodná pro děti od 3 do 8 let.\nZačátek: 21. 4. 2024 | 15.00Konec: 21. 4. 2024 | 15.45Kde: hudební sál MKDVstupné: 120 Kč\n \n \n 
LOCATION:Mělník
END:VEVENT
END:VCALENDAR