BEGIN:VCALENDAR
VERSION:2.0
CALSCALE:GREGORIAN
PRODID:-//MyApp//Calendar 1.0//EN
BEGIN:VEVENT
METHOD:PUBLISH
UID:41776@regionalniportaly.cz
DTSTAMP:20260422T222111Z
DTSTART;VALUE=DATE:20240422
DTEND;VALUE=DATE:20240423
SUMMARY:Divadelní představení Divadla NaHraně:  Instinkt
DESCRIPTION:Při hlídání tříletého vnuka udělala babička malou chybu\, která v očích rodičů naroste do obrovských rozměrů. Co se vlastně stalo? A co vám říká váš rodičovský instinkt? Fascinující i znepokojivá hra o tom\, jak ochránit své dítě ve světě\, kde nelze nikomu důvěřovat.\n \nPředstavení Divadla NaHraně \n \nPřeklad: Martina NeradováRežie: Petr ŠtindlDramaturgie: Ondřej NovákVýprava: Petra KrčmářováSvětelný design: Jan ČapekFoto: Patrik BoreckýProdukce: Tereza Černá\, Eliška Chmelíková\n \n \nHrají:Gabriela Pyšná\, Hana Frejková\, Pavel Kryl\, Hynek Chmelař/Ondřej Novák\n \nZačátek: 22. 4. 2024 | 19.00Konec: 22. 4. 2024 | 20.30divadelní sál MKDVstupné: 290 Kč
LOCATION:Mělník
END:VEVENT
END:VCALENDAR