BEGIN:VCALENDAR
VERSION:2.0
CALSCALE:GREGORIAN
PRODID:-//MyApp//Calendar 1.0//EN
BEGIN:VEVENT
METHOD:PUBLISH
UID:41777@regionalniportaly.cz
DTSTAMP:20260422T221221Z
DTSTART;VALUE=DATE:20240425
DTEND;VALUE=DATE:20240426
SUMMARY:Promítání filmu: Celý život
DESCRIPTION:Andreas vyrůstá na začátku 20. století s násilnickým strýcem na farmě v alpském údolí. Prožije dětství plné brutality a tvrdé práce\, v osmnácti letech ale najde odvahu opustit svého utlačovatele. I když jej strýc částečně zmrzačil\, vyrostl v silného muže a našel si práci jako lesník. Pracuje na výstavbě horské lanovky a konečně má dost peněz na to\, aby si koupil domek vysoko nad údolím. Brzy pozná něco\, co předtím nikdy nezažil\, lásku. Marie se stává světlem jeho života\, ale sen o šťastné společné budoucnosti se bohužel brzy rozplyne. Zoufalý Andreas se přihlásí do německého Wehrmachtu a na východní frontě tváří v tvář smrti myslí jen na Marii. Šílenství druhé světové války nakonec přežije a vrací se do svého údolí\, které se ale změnilo k nepoznání. Připadá si jako v jiném světě\, neboť z líbezné krajiny se stalo lyžařské středisko plné turistů. Přes všechny strasti\, kterými si prošel\, je vděčný za ty krásné chvíle ve svém životě. S Marií ve svém srdci Andreas s klidem přijímá čas\, který mu zbývá.\n \n \nDramaRakousko/Německo | 2023 | 108 min\n \n \nRežie: Hans SteinbichlerPředloha: Robert Seethaler (kniha)Scénář: Ulrich LimmerKamera: Armin FranzenHudba: Matthias Weber\n \nHrají:Robert Stadlober\, Thomas Schubert\, Julia Franz Richter\, Andreas Lust\, August Zirner\, Stefan Gorski\, Hannes Perkmann\, Ivan Gustafik\, Maria Hofstätter\n \nZačátek: 25. 4. 2024 | 17.00Konec: 25. 4. 2024 | 18.50Kde: divadelní sál MKDVstupné: 130 Kč
LOCATION:Mělník
END:VEVENT
END:VCALENDAR