BEGIN:VCALENDAR
VERSION:2.0
CALSCALE:GREGORIAN
PRODID:-//MyApp//Calendar 1.0//EN
BEGIN:VEVENT
METHOD:PUBLISH
UID:41779@regionalniportaly.cz
DTSTAMP:20260422T221635Z
DTSTART;VALUE=DATE:20240428
DTEND;VALUE=DATE:20240429
SUMMARY:Promítání filmu: Zlouni
DESCRIPTION: \nMálokteří hrdinové mají tak špatnou pověst jako Vlk\, Had\, Tarantule\, Piraňa a Žralok. Tihle psanci se tak dlouho hledali\, až se našli a dali dohromady tým\, pro který je spáchání dokonalého zločinu stejná brnkačka jako vyrazit si v neděli odpoledne na zmrzlinu. Hlavou party je Vlk\, Had má na starosti otevírání sejfů\, Tarantule je zkušená hackerka\, Žralok se umí skvěle maskovat a Piraňa je vztekloun\, který pro ránu nejde daleko. Za léta strávená loupežemi všeho druhu získali dojem\, že jsou nepolapitelní\, jenže i pro ně nakonec bude platit\, že se tak dlouho chodí do sejfu pro diamanty\, až se zámek zacvakne. Konkrétně máme na mysli zámek na policejní cele. I v téhle prekérní situaci má však pětice zlounů štěstí v neštěstí. Do života jim vstoupí profesor Marmaláda (morče a především klaďas tělem a duší)\, který má ambiciózní plán – převychovat je na dobráky. Všichni členové gangu souhlasí\, protože je to vstupenka na svobodu. Jejich plán počítá s tím\, že na oko budou sekat latinu a při první příležitosti se vypaří. Jenže už prvních pár dobrých skutků vede k nečekanému zjištění\, že být dobrý je vlastně fajn. Co si s tím počít? A jak se mají zachovat\, když uvolněný trůn pro největšího záporáka zabere někdo další? Budou s ním jednat v rukavičkách\, nebo si to s ním vyřídí ručně? \n \nAnimovaný/Akční/Komedie/Krimi/RodinnýUSA | 2022 | 100 min\n \nRežie: Pierre PerifelPředloha: Aaron Blabey (kniha)Scénář: Etan Cohen\, Hilary WinstonHudba: Daniel Pemberton\n  \nHrají:Sam Rockwell\, Awkwafina\, Craig Robinson\, Marc Maron\, Anthony Ramos\, Zazie Beetz\, Alex Borstein\, Richard Ayoade\, Lilly Singh\, David P. Smith a další...\n \nZačátek: 28. 4. 2024 | 16.00Konec: 28. 4. 2024 | 17.40Kde: divadelní sál MKDVstupné: 120 Kč\n \n \n 
LOCATION:Mělník
END:VEVENT
END:VCALENDAR