BEGIN:VCALENDAR
VERSION:2.0
CALSCALE:GREGORIAN
PRODID:-//MyApp//Calendar 1.0//EN
BEGIN:VEVENT
METHOD:PUBLISH
UID:41780@regionalniportaly.cz
DTSTAMP:20260422T221157Z
DTSTART;VALUE=DATE:20240430
DTEND;VALUE=DATE:20240501
SUMMARY:Promítání filmu: Amy
DESCRIPTION:Kým ve skutečnosti byla dívka\, která stojí za slavným jménem Amy Winehouse? Co tato hudební ikona skrývala před okolním světem a proč zemřela v pouhých 27 letech? Celovečerní dokument nechává promlouvat zejména Amy samotnou prostřednictvím dosud nezveřejněných archivních záběrů\, rozhovorů\, ale především skrze její hudbu a původní texty\, které vždy reflektovaly aktuální události jejího života. Vidíme Amy jako obyčejnou dívku s obrovským talentem a touhou zpívat\, jako zjevení ohromující hudební fajnšmekry\, jako popovou hvězdu obletovanou fanoušky i jako oběť manipulovanou manažery a pronásledovanou bulvárními novináři\, unikající k závislostem. Za známým mediálním obrazem ale odhalujeme hlavně Amy\, která skutečně touží jen po dvou věcech: opravdové lásce a hudbě.\n \n \nDokumentární/Životopisný/HudebníVelká Británie | 2015 | 128 min\n  \nRežie: Asif KapadiaScénář: Asif KapadiaHudba: Antonio Pinto\n \nHrají:Amy Winehouse (a.z.)\, Mark Ronson\, Tony Bennett\, Pete Doherty\, Russell Brand (a.z.)\, Natalie Cole (a.z.)\, Jay-Z (a.z.)\, Alicia Keys (a.z.)\, Beyoncé (a.z.)\n \nZačátek: 30. 4. 2024 | 19.00Konec: 30. 4. 2024 | 21.10Kde: hudební sál MKDVstupné: 110 Kč
LOCATION:Mělník
END:VEVENT
END:VCALENDAR