BEGIN:VCALENDAR
VERSION:2.0
CALSCALE:GREGORIAN
PRODID:-//MyApp//Calendar 1.0//EN
BEGIN:VEVENT
METHOD:PUBLISH
UID:41791@regionalniportaly.cz
DTSTAMP:20260422T221145Z
DTSTART;VALUE=DATE:20240502
DTEND;VALUE=DATE:20240503
SUMMARY:Alf Carlsson/Jiří Kotača Quartet (SWE\,CZ)
DESCRIPTION:Alf Carlsson/Jiří Kotača Quartet je společný projekt švédského kytaristy Alfa Carlssona a českého trumpetisty Jiřího Kotači. V jejich hudbě se mísí vlivy lyrické skandinávské hudby a moderního jazzu se špetkou R'n'B\, hip hopu a rocku. To vše\, podbarveno živou elektronikou\, vytváří unikátní zvukovou kombinaci této kapely\, která klade důraz na zvukovou pestrost\, silné melodie a pracuje s propojováním odlišných hudebních tradic a kořenů jednotlivých členů kapely. Alf Carlsson komponoval hudbu pro Nobelovu cenu míru a Jiří Kotača je nominovaným umělcem na Cenu Anděl a držitelem ceny Česká jazzová sklizeň 2020. Kapela odehrála desítky koncertů na jazzových festivalech a v klubech po celé Evropě a hraje ve složení. Alf Carlsson – kytara\, &nbsp\;Jiří Kotača – trumpeta/křídlovka\, Peter Korman – kontrabas/baskytara a Kristián Kuruc - bicí nástroje.
LOCATION:Černošice
END:VEVENT
END:VCALENDAR