BEGIN:VCALENDAR
VERSION:2.0
CALSCALE:GREGORIAN
PRODID:-//MyApp//Calendar 1.0//EN
BEGIN:VEVENT
METHOD:PUBLISH
UID:41793@regionalniportaly.cz
DTSTAMP:20260423T032618Z
DTSTART;VALUE=DATE:20240609
DTEND;VALUE=DATE:20240610
SUMMARY:Petra Škorpíková- Světla a stín koncert na zahrádce
DESCRIPTION:Autorský hudební pořad Jiřího Žáčka\, Jiřího Zigmy ve svérázném podání zpěvačky a herečky Petry Škorpíkové za doprovodu kapely tvořené s předních českých hudebníků Helen Rock housle\, Věry Matulíkové klavír a Davida Atla bící nástroje. Prolnuté laskavou poezií Lawrence Ferlinghettiho.
LOCATION:Černošice
END:VEVENT
END:VCALENDAR