BEGIN:VCALENDAR
VERSION:2.0
CALSCALE:GREGORIAN
PRODID:-//MyApp//Calendar 1.0//EN
BEGIN:VEVENT
METHOD:PUBLISH
UID:41815@regionalniportaly.cz
DTSTAMP:20260423T132701Z
DTSTART;VALUE=DATE:20241004
DTEND;VALUE=DATE:20241005
SUMMARY:Koncert filmové hudby I
DESCRIPTION:Populární Symfonický orchestr Dalibora Havlíčka uvede v Kralupech nad Vltavou svůj úspěšný Koncert filmové hudby. Toto mladé hudební těleso pro vás vybralo rozmanitý program plný známých filmových melodií.\nZazní nejen skladby\, které orchestr provází od jeho vzniku v roce 2016 – například melodie z filmu Rocky\, populárního seriálu Hra o trůny\, či špionážní filmové série Mission Impossible. Uslyšíte ale i slavnou melodii Ennia Morriconeho z filmu Tenkrát na Západě a soundtracky dobrodružných filmů Indiana Jones\, Sedm statečných\, Poslední Mohykán a Vinnetou. Nebudou chybět ani melodie z filmů Pearl Harbor nebo Piráti z Karibiku\, jejichž autorem je jeden z nejvyhledávanějších skladatelů současnosti\, Hans Zimmer. Malé diváky zase jistě potěší melodie z filmové série o Harrym Potterovi nebo animované série Madagascar. Na své si přijdou také milovníci prvního a patrně i nejznámějšího českého filmového muzikálu z roku 1964 Starci na chmelu.   Místo konání: Kulturní a společenské středisko Vltava Adresa: nám. J. Seiferta 706\, 278 01 Kralupy nad Vltavou Začátek: 19:00 Sál otevřen od 18:30 Délka koncertu: 2 x 45 minut (s přestávkou)\nVstupné: 650\,- (1.-9. řada) / 550\,- (10. – 15. řada\, balkón střed) / 450\,- (balkón vlevo\, vpravo)
LOCATION:Kralupy nad Vltavou
END:VEVENT
END:VCALENDAR