BEGIN:VCALENDAR
VERSION:2.0
CALSCALE:GREGORIAN
PRODID:-//MyApp//Calendar 1.0//EN
BEGIN:VEVENT
METHOD:PUBLISH
UID:41840@regionalniportaly.cz
DTSTAMP:20260423T084004Z
DTSTART;VALUE=DATE:20240823
DTEND;VALUE=DATE:20240824
SUMMARY:Děti ráje na Konopišti
DESCRIPTION:Výpravná koncertní verze nejúspěšnějšího českého muzikálu Děti ráje v rytmu písní Michala Davida přijíždí za Vámi! Přijďte si užít léto a připomenout si atmosféru legendárního představení\, které pravidelně končí aplausem ve stoje. V podání hlavních představitelů - předních osobností české hudební scény - opět zazní nejlepší písně z muzikálu (notoricky známé megahity jako jsou Decibely lásky\, Pár přátel\, Poupata\, Céčka\, Nonstop a mnohé další)\, které si diváci zpívají spolu s účinkujícími. Trocha romantiky\, maličko nostalgie\, humor\, zábava\, ale i nadhled. To všechno a mnohem víc vám přivezou vaše Děti ráje! 
LOCATION:Benešov
END:VEVENT
END:VCALENDAR